BEGIN:VCALENDAR
VERSION:2.0
PRODID:-//Jahnhalle Nordenham - ECPv6.15.20//NONSGML v1.0//EN
CALSCALE:GREGORIAN
METHOD:PUBLISH
X-WR-CALNAME:Jahnhalle Nordenham
X-ORIGINAL-URL:https://jahnhalle.de
X-WR-CALDESC:Veranstaltungen für Jahnhalle Nordenham
REFRESH-INTERVAL;VALUE=DURATION:PT1H
X-Robots-Tag:noindex
X-PUBLISHED-TTL:PT1H
BEGIN:VTIMEZONE
TZID:Europe/Berlin
BEGIN:DAYLIGHT
TZOFFSETFROM:+0100
TZOFFSETTO:+0200
TZNAME:CEST
DTSTART:20250330T010000
END:DAYLIGHT
BEGIN:STANDARD
TZOFFSETFROM:+0200
TZOFFSETTO:+0100
TZNAME:CET
DTSTART:20251026T010000
END:STANDARD
BEGIN:DAYLIGHT
TZOFFSETFROM:+0100
TZOFFSETTO:+0200
TZNAME:CEST
DTSTART:20260329T010000
END:DAYLIGHT
BEGIN:STANDARD
TZOFFSETFROM:+0200
TZOFFSETTO:+0100
TZNAME:CET
DTSTART:20261025T010000
END:STANDARD
BEGIN:DAYLIGHT
TZOFFSETFROM:+0100
TZOFFSETTO:+0200
TZNAME:CEST
DTSTART:20270328T010000
END:DAYLIGHT
BEGIN:STANDARD
TZOFFSETFROM:+0200
TZOFFSETTO:+0100
TZNAME:CET
DTSTART:20271031T010000
END:STANDARD
END:VTIMEZONE
BEGIN:VEVENT
DTSTART;TZID=Europe/Berlin:20260425T200000
DTEND;TZID=Europe/Berlin:20260425T233000
DTSTAMP:20260425T013103
CREATED:20251121T101018Z
LAST-MODIFIED:20260210T105943Z
UID:3732-1777147200-1777159800@jahnhalle.de
SUMMARY:Patricia Vonne
DESCRIPTION:Bild: qf_markguerra \n\n\n\n\n\nPatricia Vonne – Border-Rock & Soul-Magie live\n\n\n\n25. April 2026 – Jahnhalle Nordenham \n\n\n\nPatricia Vonne ist nicht einfach eine Sängerin – sie ist eine Stimme mit vielen Facetten: Texanische Wurzeln\, Latein-Einfluss\, Rock’n’Roll-Herz. Ihre Musik verwebt rauen Roots-Rock mit spanischer Leidenschaft\, manchmal flamenco-angetönt\, oft direkt und ungeschminkt.  \n\n\n\nAuf dieser Bühne in Nordenham erwartet Sie ein Konzert\, bei dem jede Note zählt: introspektive Songs\, kraftvolle Gitarrenarbeit\, leidenschaftlicher Gesang – und diese Mischung aus „man spürt das Handwerk“ und „man spürt die Emotion“. \n\n\n\nWarum Sie dieses Konzert nicht verpassen sollten\n\n\n\n\nPatricia Vonne nimmt ihr Publikum mit auf eine Reise zwischen Süd-Texas\, Rockbühne und Latin-Groove.\n\n\n\nLive‐Auftritte von ihr gelten als intensiv und mit Haut und Haaren gespielt – nicht nur darbietend\, sondern verbindend. \n\n\n\nWer Musik liebt\, die zugleich authentisch und stilistisch offen ist – hier trifft beides zusammen: Roots\, Rock\, Latin – und eine starke Persönlichkeit im Fokus.\n\n\n\n\nEinlass & Beginn\n\n\n\nEinlass: 19:30 UhrBeginn: 20:00 UhrVVK: 23\,50 €AK: 25\,00 € \n\n\n\nUnser Tipp\n\n\n\nDieser Abend eignet sich perfekt für alle\, die nicht einfach nur „unterhalten“ werden wollen\, sondern mitgenommen werden möchten – in Klangräume\, die sich öffnen. Kommen Sie früh\, bringen Sie gute Laune mit\, und seien Sie bereit für einen Abend voller Energie und Atmosphäre. \n\n\n\n\nTickets bei Reservix >>
URL:https://jahnhalle.de/event/patricia-vonne-2/
CATEGORIES:Konzert,Rock
ATTACH;FMTTYPE=image/jpeg:https://jahnhalle.de/wp-content/uploads/2025/11/pv_pressphoto1_qf_by_anthony_garcia-8950-scaled.jpg
END:VEVENT
END:VCALENDAR